BEGIN:VCALENDAR
VERSION:2.0
PRODID:-//Events//NONSGML v1.0//EN
METHOD:PUBLISH
BEGIN:VEVENT
DTSTART;TZID="Pacific Time (US & Canada)":20150929T080000
DTEND;TZID="Pacific Time (US & Canada)":20150929T100000
SUMMARY:Counseling and Psychological Services Open House
LOCATION:
DESCRIPTION:WSU faculty and staff are invited to join us as we celebrate our newly renovated space in the Washington building, now home to all campus health services! Come by any time between 8 and 10 a.m. to chat with our staff and see our new space. The open house will be held in Washington 302, accessible through the north entrance of the building. Light refreshments will be provided. We look forward to seeing you there!
BEGIN:VALARM
ACTION:DISPLAY
DESCRIPTION:REMINDER
TRIGGER;RELATED=START:-PT00H15M00S
END:VALARM
END:VEVENT
END:VCALENDAR
