BEGIN:VCALENDAR
VERSION:2.0
PRODID:-//Events//NONSGML v1.0//EN
METHOD:PUBLISH
BEGIN:VEVENT
DTSTART;TZID="Pacific Time (US & Canada)":20140127T161000
DTEND;TZID="Pacific Time (US & Canada)":20140127T170000
SUMMARY:CRB Seminar
LOCATION:
DESCRIPTION:Sponsored by the Center for Reproductive Biology, Washington State University and the University of Idaho\n\nDr. Kevin Elliott, Michigan State University\n\n&quot;Is a Little Pollution Good for You? How the Humanities can Contribute to Science and Policy.&quot;\n\n4:10 p.m.\n\nBiotechnology Life Sciences 402\n\nCo-Hosted by the Humanities Planning Group\n\nAll faculty, fellows and students are encouraged to attend!
BEGIN:VALARM
ACTION:DISPLAY
DESCRIPTION:REMINDER
TRIGGER;RELATED=START:-PT00H15M00S
END:VALARM
END:VEVENT
END:VCALENDAR
