BEGIN:VCALENDAR
VERSION:2.0
PRODID:-//Events//NONSGML v1.0//EN
METHOD:PUBLISH
BEGIN:VEVENT
DTSTART;TZID="Pacific Time (US & Canada)":20260407T131000
DTEND;TZID="Pacific Time (US & Canada)":20260407T140000
SUMMARY:CySER Virtual Seminar &#8211; Cybersecurity Capstone Projects and Conferences
LOCATION:Online
DESCRIPTION:Title: Cybersecurity Capstone Projects and Conferences\n\nSpeakers: Adam Caudle, Sean Hodgson, Puumaaya Tahiru, Emily West\n\nAbstract: In this seminar, we will hear from current and past CySER students about their experiences with cybersecurity capstone projects and cybersecurity conferences such as the BSides conference in Seattle. Capstone courses are taken by students in their senior year and involve large-scale software development projects, including requirements analysis, design, verification and project management. Sean and Puumaaya will be speaking about the projects they did in their singlesemester cybersecurity capstone course. The 2026 BSides Seattle conference was held in February and included talks such as “Usable Security: Bridging Research and Industry Practices” and “Demo Session: Google Cloud Security Engineering Team.” Adam and Emily attended this conference and will share their experiences.
BEGIN:VALARM
ACTION:DISPLAY
DESCRIPTION:REMINDER
TRIGGER;RELATED=START:-PT00H15M00S
END:VALARM
END:VEVENT
END:VCALENDAR
