BEGIN:VCALENDAR
VERSION:2.0
PRODID:-//Events//NONSGML v1.0//EN
METHOD:PUBLISH
BEGIN:VEVENT
DTSTART;TZID="Pacific Time (US & Canada)":20231030T151000
DTEND;TZID="Pacific Time (US & Canada)":20231030T160000
SUMMARY:CySER Virtual Seminar &#8211; My Journey through IT and Cybersecurity
LOCATION:Online
DESCRIPTION:Title: My Journey through IT and Cybersecurity\n\nSpeaker: Shaun Marquardt\n\nAbstract: The field of Information Technology and cybersecurity is vast. Students coming out of accredited institutions with degrees may sometimes get confused at the dizzying array of opportunities available to them and wonder how to get started in the field as a career. This seminar focuses on my personal journey through the field and reflects on several career paths graduates can take as they look to enter the field. The seminar will also introduce cybersecurity at a high level, especially as it relates to business and risk. Lastly, we will discuss opportunities for employment with the State of Washington.\n\nSpeaker Bio: Shaun is a Cybersecurity Architect for the Office of the Washington State Auditor. They are a cybersecurity professional with over 18 years of experience working not only in cybersecurity but also in operations, system administration, and engineering. Shaun holds a Master’s of Cybersecurity and Leadership from the University of Washington and the industry standard Certified Information Systems Security Professional (CISSP) certificate from ISC2. They have spent the last 8 years working for the State of Washington to provide services that support the State’s most vulnerable residents and ensure the security of data as agencies are audited.\n\nLearn more about CySER: cyser.wsu.edu
BEGIN:VALARM
ACTION:DISPLAY
DESCRIPTION:REMINDER
TRIGGER;RELATED=START:-PT00H15M00S
END:VALARM
END:VEVENT
END:VCALENDAR
