BEGIN:VCALENDAR
VERSION:2.0
PRODID:-//Events//NONSGML v1.0//EN
METHOD:PUBLISH
BEGIN:VEVENT
DTSTART;TZID="Pacific Time (US & Canada)":20220916T193000
DTEND;TZID="Pacific Time (US & Canada)":20220916T210000
SUMMARY:Faculty Artist Series: Jacqueline Wilson, bassoon and Galit Kaunitz, Oboe
LOCATION:Bryan Hall
DESCRIPTION:PROGRAM\n\nAll Are Welcome\n\nCollaborators, friends, and co-hosts of the podcast Double Reed Dish, Galit Kaunitz (Associate Professor of Oboe, University of Southern Mississippi) and Jacqueline Wilson (Assistant Professor of Bassoon, Washington State University) will present a recital of works from their recent commission consortium. Program to include premieres of works by dynamic, young, American composers Mason Bynes, Connor Chee, brin solomon, and Kate Pukinskis. With Dr. Fabio Menchetti (piano) and Dr. Aaron Agulay (voice).
BEGIN:VALARM
ACTION:DISPLAY
DESCRIPTION:REMINDER
TRIGGER;RELATED=START:-PT00H15M00S
END:VALARM
END:VEVENT
END:VCALENDAR
