BEGIN:VCALENDAR
VERSION:2.0
PRODID:-//Events//NONSGML v1.0//EN
METHOD:PUBLISH
BEGIN:VEVENT
DTSTART;TZID="Pacific Time (US & Canada)":20211018T113000
DTEND;TZID="Pacific Time (US & Canada)":20211018T123000
SUMMARY:Emotional Health Monday: Flash talks
LOCATION:Online
DESCRIPTION:Experts from across the WSU system deliver practical information on emotional health topics and connect you with a network of support in your campus community.\n\nYou’ll hear multiple short talks (roughly 10-15 minutes each) in the one-hour window from 11:30 a.m. to 12:30 p.m. Topics include the following: \n\n\n\n	Healthy relationships\n\n	Fostering well-being: How to manage difficult emotions\n\n	Suicide prevention: Tips for talking with someone in crisis\n\n	How to help a friend in an abusive relationship\n\n	Mindfulness to decrease stress\n\n\n\nLinks for remote access to the Zoom sessions can be found on the event website. \n\nThe flash talks are part of the annual Safety, Health, and Security Fair, which will continue throughout the week. \n\nMore flash talks this week\n\nMark your calendar for additional flash talks later in the week, each addressing a different theme:\n\nWellness Wednesday\n\nTopics to include:\n\n\n\n	Understanding, treating and preventing substance misuse\n\n	Sleep hygiene basics\n\n	Preventing sexually transmitted infections: The importance of using barrier methods\n\n	Stress management and self-care\n\n	Natural products: A safe bet?\n\nLife Essentials Thursday\n\nTopics to include:\n\n\n\n	Money-saving meals for everyone\n\n	Bike maintenance: The importance of the ABC quick safety check before a ride\n\n	Bystander intervention: Creating a safer campus and community\n\n	How to use a fire extinguisher\n\nFun Facts Friday\n\nTopics to include:\n\n\n\n	Updates on the treatment of Chlamydia\n\n	Safety considerations for field research\n\n	Healthy pets make healthy owners\n\n	Alcohol use disorder: Why is the gold standard treatment outcome shifting from complete abstinence to low-risk drinking?\n\nIn-person events at the Safety, Health, and Security Fair\n\nIn addition to the online flash talks, be sure to attend the following in-person events \n\non Tuesday, October 19 in the Compton Union Building Senior Ballroom.\n\n\n\n	Awards ceremony\n\n11:30 a.m.\n\nPresident’s Safety, Health, and Security Award\n\n	Resource fair \n\n9:00 a.m. to 1:00 p.m.\n\nRepresentatives from local organizations will showcase products and services designed to improve quality of life. Officials from university departments and administrative units will also be on hand to share information about campus resources.\n\n\n\nQuestions?\n\nFor more information, visit the Safety, Health, and Security Fair website or contact Sarah Mahaffy of University Events at sarah.mahaffy@wsu.edu.
BEGIN:VALARM
ACTION:DISPLAY
DESCRIPTION:REMINDER
TRIGGER;RELATED=START:-PT00H15M00S
END:VALARM
END:VEVENT
END:VCALENDAR
