BEGIN:VCALENDAR
VERSION:2.0
PRODID:-//Events//NONSGML v1.0//EN
METHOD:PUBLISH
BEGIN:VEVENT
DTSTART;TZID="Pacific Time (US & Canada)":20260618T180000
DTEND;TZID="Pacific Time (US & Canada)":20260618T190000
SUMMARY:Engineering and Technology Management Virtual Info Session
LOCATION:Online
DESCRIPTION:Pursuing a master’s degree or graduate certificate as a working professional can offer numerous benefits, both for your career and for the company you work for. It’s a strategic investment in your professional development and can lead to increased expertise, career opportunities, and contributions to the company’s success.\n\nJoin Engineering and Technology Management (ETM) faculty and staff for a deeper dive into how pursuing a master’s degree or graduate certificate can enhance your skills and advance your career in engineering and technology management. In this virtual information session, we’ll cover course curriculum and delivery, new changes to the master’s degree core requirements, the admissions process, certificate options, and more.\n\nRSVP for Zoom meeting link.
BEGIN:VALARM
ACTION:DISPLAY
DESCRIPTION:REMINDER
TRIGGER;RELATED=START:-PT00H15M00S
END:VALARM
END:VEVENT
END:VCALENDAR
