BEGIN:VCALENDAR
VERSION:2.0
PRODID:-//Events//NONSGML v1.0//EN
METHOD:PUBLISH
BEGIN:VEVENT
DTSTART;TZID="Pacific Time (US & Canada)":20231009T000000
DTEND;TZID="Pacific Time (US & Canada)":20231207T000000
SUMMARY:Exhibition &#8211; Ben Beres: 25 Years of Printmaking
LOCATION:Fine Arts Building, Pullman, WA 99164
DESCRIPTION:Ben Beres: Do It Again // 25 Years of Printmaking will be on display in the Fine Arts Center&#039;s Gallery 2 from October 9th through December 7th\n\nBen Beres, a Seattle-based artist, explores countless creative pursuits through a diverse range of artistic media including installations, public works, performance, glass art, and printmaking.\n\nOne-third of SuttonBeresCuller—a collaborative trio fabricating experimental guerrilla art to high-end commercial work for more than 20 years – Beres likes to play with what art is and can be. He is a professor of printmaking at Cornish College of the Arts and co-founder of Mini Mart City Park, a community-centric arts space and environmental remediation project in the Georgetown neighborhood of Seattle. His work is represented by Davidson Galleries, Greg Kucera Gallery, and Vetri.\n\nGallery Hours are Monday through Friday, 8AM - 5PM.\n\n&nbsp;
BEGIN:VALARM
ACTION:DISPLAY
DESCRIPTION:REMINDER
TRIGGER;RELATED=START:-PT00H15M00S
END:VALARM
END:VEVENT
END:VCALENDAR
