BEGIN:VCALENDAR
VERSION:2.0
PRODID:-//Events//NONSGML v1.0//EN
METHOD:PUBLISH
BEGIN:VEVENT
DTSTART;TZID="Pacific Time (US & Canada)":20250924T160000
DTEND;TZID="Pacific Time (US & Canada)":20250924T171500
SUMMARY:Expedia Info Session with Alum Connor Easton
LOCATION:Spark
DESCRIPTION:\n\nWSU alum, Connor Easton, will discuss his work at Expedia Group and provide an overview of the company, internships, and careers.
BEGIN:VALARM
ACTION:DISPLAY
DESCRIPTION:REMINDER
TRIGGER;RELATED=START:-PT00H15M00S
END:VALARM
END:VEVENT
END:VCALENDAR
