BEGIN:VCALENDAR
VERSION:2.0
PRODID:-//Events//NONSGML v1.0//EN
METHOD:PUBLISH
BEGIN:VEVENT
DTSTART;TZID="Pacific Time (US & Canada)":20240210T150000
DTEND;TZID="Pacific Time (US & Canada)":20240210T170000
SUMMARY:Experience WSU Open House
LOCATION:Brelsford WSU Visitor Center, 150 E Spring St, Pullman, WA 99163
DESCRIPTION:Welcome future Cougs! Learn more about your soon-to-be community during an open house featuring a variety of local resources and amenities, one-on-one conversations with current Cougs, light refreshments and a complimentary keepsake photo commemorating your decision to become a future WSU Pullman Coug. Stop by and say hello - we&#039;re always here to help!
BEGIN:VALARM
ACTION:DISPLAY
DESCRIPTION:REMINDER
TRIGGER;RELATED=START:-PT00H15M00S
END:VALARM
END:VEVENT
END:VCALENDAR
