BEGIN:VCALENDAR
VERSION:2.0
PRODID:-//Events//NONSGML v1.0//EN
METHOD:PUBLISH
BEGIN:VEVENT
DTSTART;TZID="Pacific Time (US & Canada)":20260415T120000
DTEND;TZID="Pacific Time (US & Canada)":20260415T130000
SUMMARY:Fact or fiction? Controversies in environmental science and policy
LOCATION:Foley Institute, 316 Bryan Hall, Pullman, WA 99164
DESCRIPTION:Join the Foley Institute as we welcome Kevin Elliott, Red Cedar Distinguished Professor of Philosophy at Michigan State University. Elliott will discuss environmental policy around issues like climate change, pesticide regulation, and water fluoridation.\n\nPizza and soft drinks will be provided!\n\nFact or fiction?\n\n&nbsp;
BEGIN:VALARM
ACTION:DISPLAY
DESCRIPTION:REMINDER
TRIGGER;RELATED=START:-PT00H15M00S
END:VALARM
END:VEVENT
END:VCALENDAR
