BEGIN:VCALENDAR
VERSION:2.0
PRODID:-//Events//NONSGML v1.0//EN
METHOD:PUBLISH
BEGIN:VEVENT
DTSTART;TZID="Pacific Time (US & Canada)":20160922T200000
DTEND;TZID="Pacific Time (US & Canada)":20160922T220000
SUMMARY:Faculty Artist Series: The &#8220;Grand&#8221; Piano
LOCATION:
DESCRIPTION:\n\nFeaturing works that exploit the piano’s entire range of color and expression, this program aims to keep the audience on the edge of their seats. Corigliano’s Etude Fantasy is an intense and dramatic work, reminiscent at times of movie scores; the composer won an Academy Award for his score of 1998’s The Red Violin. Rounding out the program are a delightful set of variations by Mozart, and one the most thrilling pieces of music written for piano in the 19th Century, Liszt’s Sonata in B minor.\n\nJeffrey Savage, piano\n\nGeneral Admission: $10   Sr. Citizens &amp; non-WSU Students: $5\n\nWSU Students with ID: FREE\n\nAll proceeds from the sales of tickets will benefit the School of Music scholarship fund. Tickets are available in the lobby thirty minutes before concert time.
BEGIN:VALARM
ACTION:DISPLAY
DESCRIPTION:REMINDER
TRIGGER;RELATED=START:-PT00H15M00S
END:VALARM
END:VEVENT
END:VCALENDAR
