BEGIN:VCALENDAR
VERSION:2.0
PRODID:-//Events//NONSGML v1.0//EN
METHOD:PUBLISH
BEGIN:VEVENT
DTSTART;TZID="Pacific Time (US & Canada)":20230324T193000
DTEND;TZID="Pacific Time (US & Canada)":20230324T203000
SUMMARY:Faculty Artist Series: Austin Cebulske, saxophone and Jake Svendsen, piano
LOCATION:Kimbrough Music Building
DESCRIPTION:A tribute to Stan Getz and Kenny Barron&#039;s People Time.
BEGIN:VALARM
ACTION:DISPLAY
DESCRIPTION:REMINDER
TRIGGER;RELATED=START:-PT00H15M00S
END:VALARM
END:VEVENT
END:VCALENDAR
