BEGIN:VCALENDAR
VERSION:2.0
PRODID:-//Events//NONSGML v1.0//EN
METHOD:PUBLISH
BEGIN:VEVENT
DTSTART;TZID="Pacific Time (US & Canada)":20241004T193000
DTEND;TZID="Pacific Time (US & Canada)":20241004T210000
SUMMARY:Faculty Artist Series: Oktubafest: Chris Dickey, tuba
LOCATION:Bryan Hall
DESCRIPTION:Program:\n\nProgram Notes: \n\nThis year’s Oktubafest begins with Chris Dickey’s faculty recital featuring new music for tuba and euphonium by JaKobe Henry, Cait Nishimura, Barbara York, James Naigus, and a world premiere by Dr. Dickey. The first half concludes with York’s Four Paintings by Grant Wood, an homage to the Iowa-based painter of iconic images “American Gothic” and “Parson Weem’s Fable.” Dickey’s new work is inspired by their grandfather James Dickey (1933-2018) whose wise advice and side-splitting humor contained a string of memorable similes and metaphors. The Sonatina for Tuba and Piano by American composer James Naigus rounds out the program. Pianists Yoon-Wha Roh and Fabio Menchetti will join Dickey for this program.\n\n[caption id=&quot;attachment_66389&quot; align=&quot;alignnone&quot; width=&quot;396&quot;] Grant Wood (1891–1942)Parson Weems&#039; Fable, 1939Oil on canvasAmon Carter Museum of American Art, Fort Worth, Texas1970.43[/caption]\n\n&nbsp;\n\n\n\nGrant Wood (1891–1942)\n\nAmerican Gothic, 1930\n\nOil on Beaver Board\n\nArt Institute of Chicago
BEGIN:VALARM
ACTION:DISPLAY
DESCRIPTION:REMINDER
TRIGGER;RELATED=START:-PT00H15M00S
END:VALARM
END:VEVENT
END:VCALENDAR
