BEGIN:VCALENDAR
VERSION:2.0
PRODID:-//Events//NONSGML v1.0//EN
METHOD:PUBLISH
BEGIN:VEVENT
DTSTART;TZID="Pacific Time (US & Canada)":20250123T193000
DTEND;TZID="Pacific Time (US & Canada)":20250123T210000
SUMMARY:Faculty Artist Series: Jacqueline Wilson, bassoon
LOCATION:Bryan Hall
DESCRIPTION:PROGRAM\n\nA program presented by Yakama bassoonist Jacqueline Wilson featuring works for the bassoon by living Native American composers Connor Chee (Navajo), Charles Shadle (Choctaw), Michael Begay (Navajo), Trevor Reed (Hopi), and Joy Zickau (Seminole).
BEGIN:VALARM
ACTION:DISPLAY
DESCRIPTION:REMINDER
TRIGGER;RELATED=START:-PT00H15M00S
END:VALARM
END:VEVENT
END:VCALENDAR
