BEGIN:VCALENDAR
VERSION:2.0
PRODID:-//Events//NONSGML v1.0//EN
METHOD:PUBLISH
BEGIN:VEVENT
DTSTART;TZID="Pacific Time (US & Canada)":20190927T193000
DTEND;TZID="Pacific Time (US & Canada)":20190927T213000
SUMMARY:CANCELED Faculty Artist Series: Sacred Song Through the Ages + LIVESTREAM
LOCATION:Bryan Hall
DESCRIPTION:A new date will be posted when this concert is rescheduled.\n\n&nbsp;\n\nFeaturing songs by Purcell, Vivaldi, Franck, Faure, Ravel, Wolf, Kirk and Mollicone.  Julie Wieck will be joined by Elena Panchenko, harpsichord/piano, Lori Wiest, mezzo-soprano and Sophia Tegart, Flute.  \n\nProceeds from ticket sales in the series benefit the School of Music Scholarship Fund. Tickets, on sale one hour before performances in the lobby, cost $10 general admission, $5 senior citizens (55+) and non-WSU students and free for WSU students with ID.
BEGIN:VALARM
ACTION:DISPLAY
DESCRIPTION:REMINDER
TRIGGER;RELATED=START:-PT00H15M00S
END:VALARM
END:VEVENT
END:VCALENDAR
