BEGIN:VCALENDAR
VERSION:2.0
PRODID:-//Events//NONSGML v1.0//EN
METHOD:PUBLISH
BEGIN:VEVENT
DTSTART;TZID="Pacific Time (US & Canada)":20230914T193000
DTEND;TZID="Pacific Time (US & Canada)":20230914T210000
SUMMARY:Faculty Artist Series: Shannon Scott and Yoon-Wha Roh, Music by French Female Composers
LOCATION:Bryan Hall
DESCRIPTION:Spurred by a happy discovery of a new collection of pieces by French Women Composers, this recital illustrates a wide range of compositional voices from the early 1800s to the end of the twentieth century. \n\nAdmission is FREE!\n\nProgram: Click Here
BEGIN:VALARM
ACTION:DISPLAY
DESCRIPTION:REMINDER
TRIGGER;RELATED=START:-PT00H15M00S
END:VALARM
END:VEVENT
END:VCALENDAR
