BEGIN:VCALENDAR
VERSION:2.0
PRODID:-//Events//NONSGML v1.0//EN
METHOD:PUBLISH
BEGIN:VEVENT
DTSTART;TZID="Pacific Time (US & Canada)":20190905T163000
DTEND;TZID="Pacific Time (US & Canada)":20190905T180000
SUMMARY:Fall Orientation for New MME Undergraduate Students (attendance is mandatory)
LOCATION:Todd Hall
DESCRIPTION:Topics Covered: Academic Advising, Student Support and Resources, Student Clubs, Career Services and Internships, Safety, and Much More . . .\n\nView Flyer
BEGIN:VALARM
ACTION:DISPLAY
DESCRIPTION:REMINDER
TRIGGER;RELATED=START:-PT00H15M00S
END:VALARM
END:VEVENT
END:VCALENDAR
