BEGIN:VCALENDAR
VERSION:2.0
PRODID:-//Events//NONSGML v1.0//EN
METHOD:PUBLISH
BEGIN:VEVENT
DTSTART;TZID="Pacific Time (US & Canada)":20190930T150000
DTEND;TZID="Pacific Time (US & Canada)":20190930T163000
SUMMARY:Fast Enterprises Info Session &amp; Technical Interview Workshop
LOCATION:Spark
DESCRIPTION:This event is meant to help STEM students prepare for their Career with resume tips and both technical and non-technical interview tips. You’ll get a chance to review your resume with a recruiter and ask any questions you have about the company and general recruiting process.
BEGIN:VALARM
ACTION:DISPLAY
DESCRIPTION:REMINDER
TRIGGER;RELATED=START:-PT00H15M00S
END:VALARM
END:VEVENT
END:VCALENDAR
