BEGIN:VCALENDAR
VERSION:2.0
PRODID:-//Events//NONSGML v1.0//EN
METHOD:PUBLISH
BEGIN:VEVENT
DTSTART;TZID="Pacific Time (US & Canada)":20241007T113000
DTEND;TZID="Pacific Time (US & Canada)":20241007T133000
SUMMARY:FAST Enterprises Tabling
LOCATION:Spark
DESCRIPTION:FAST Enterprises is tabling in the Spark Atrium. Learn about Fast Enterprises and their career opportunities for students looking for internships or new grad positions.\n\n&nbsp;\n\n
BEGIN:VALARM
ACTION:DISPLAY
DESCRIPTION:REMINDER
TRIGGER;RELATED=START:-PT00H15M00S
END:VALARM
END:VEVENT
END:VCALENDAR
