BEGIN:VCALENDAR
VERSION:2.0
PRODID:-//Events//NONSGML v1.0//EN
METHOD:PUBLISH
BEGIN:VEVENT
DTSTART;TZID="Pacific Time (US & Canada)":20260207T000000
DTEND;TZID="Pacific Time (US & Canada)":20260207T003000
SUMMARY:Festival of Contemporary Artists in Music (Day 3)
LOCATION:Kimbrough Music Building
DESCRIPTION:Performance: Link will open in a new tab.\n\nSchedule: Link will open in a new tab.
BEGIN:VALARM
ACTION:DISPLAY
DESCRIPTION:REMINDER
TRIGGER;RELATED=START:-PT00H15M00S
END:VALARM
END:VEVENT
END:VCALENDAR
