BEGIN:VCALENDAR
VERSION:2.0
PRODID:-//Events//NONSGML v1.0//EN
METHOD:PUBLISH
BEGIN:VEVENT
DTSTART;TZID="Pacific Time (US & Canada)":20220413T110000
DTEND;TZID="Pacific Time (US & Canada)":20220413T123000
SUMMARY:Finding Yourself by Finding Community: Reflections on Growing Up Far From the Tree
LOCATION:
DESCRIPTION:Join Joseph Stramondo and Leah Smith to discuss the documentary and book, Far From the Tree, by Andrew Solomon. Stramondo and Smith were featured in the film as Little People who both have average-size parents and average-size kids of their own. They will discuss how identity can impact family bonds and the norms we learn from our peers.\n\nEvent registration includes access to the documentary film, Far From the Tree.\n\nThis event is virtual and open to all WSU students, faculty, staff, and community members.\n\nRequest accommodations early at access.center@wsu.edu
BEGIN:VALARM
ACTION:DISPLAY
DESCRIPTION:REMINDER
TRIGGER;RELATED=START:-PT00H15M00S
END:VALARM
END:VEVENT
END:VCALENDAR
