BEGIN:VCALENDAR
VERSION:2.0
PRODID:-//Events//NONSGML v1.0//EN
METHOD:PUBLISH
BEGIN:VEVENT
DTSTART;TZID="Pacific Time (US & Canada)":20230303T150000
DTEND;TZID="Pacific Time (US & Canada)":20230303T160000
SUMMARY:FOCAM: Festival of Contemporary Artists in Music &#8211; Concert 3
LOCATION:Kimbrough Music Building
DESCRIPTION:PROGRAM\n\nFeaturing Electro Acoustic works
BEGIN:VALARM
ACTION:DISPLAY
DESCRIPTION:REMINDER
TRIGGER;RELATED=START:-PT00H15M00S
END:VALARM
END:VEVENT
END:VCALENDAR
