BEGIN:VCALENDAR
VERSION:2.0
PRODID:-//Events//NONSGML v1.0//EN
METHOD:PUBLISH
BEGIN:VEVENT
DTSTART;TZID="Pacific Time (US & Canada)":20230303T193000
DTEND;TZID="Pacific Time (US & Canada)":20230303T200000
SUMMARY:FOCAM: Festival of Contemporary Artists in Music &#8211; Concert 4
LOCATION:Bryan Hall
DESCRIPTION:PROGRAM\n\nChoral and chamber works by student and faculty
BEGIN:VALARM
ACTION:DISPLAY
DESCRIPTION:REMINDER
TRIGGER;RELATED=START:-PT00H15M00S
END:VALARM
END:VEVENT
END:VCALENDAR
