BEGIN:VCALENDAR
VERSION:2.0
PRODID:-//Events//NONSGML v1.0//EN
METHOD:PUBLISH
BEGIN:VEVENT
DTSTART;TZID="Pacific Time (US & Canada)":20230304T193000
DTEND;TZID="Pacific Time (US & Canada)":20230304T210000
SUMMARY:FOCAM: Festival of Contemporary Artists in Music &#8211; Concert 6
LOCATION:Elson S. Floyd Cultural Center, 405 SE Spokane Street, Pullman, WA
DESCRIPTION:PROGRAM\n\nYii Kah Hoe installation
BEGIN:VALARM
ACTION:DISPLAY
DESCRIPTION:REMINDER
TRIGGER;RELATED=START:-PT00H15M00S
END:VALARM
END:VEVENT
END:VCALENDAR
