BEGIN:VCALENDAR
VERSION:2.0
PRODID:-//Events//NONSGML v1.0//EN
METHOD:PUBLISH
BEGIN:VEVENT
DTSTART;TZID="Pacific Time (US & Canada)":20240405T130000
DTEND;TZID="Pacific Time (US & Canada)":20240405T150000
SUMMARY:Fourth Annual Women&#8217;s Leadership Summit
LOCATION:
DESCRIPTION:Details\n\nYou are invited to participate in the fourth annual Women&#039;s Leadership Summit hosted by the WSU Alumni Association. This Summit is designed to provide Cougs with an opportunity to celebrate successes and learn from the experiences of women from WSU. This year&#039;s Summit will highlight WSU alumnae from across WSU and showcase how the university played an integral role in their professional journeys. The summit panel will include one alumnae representative from each of our six campus locations.\n\nOur amazing alumnae panelists will share their experiences and participate in a question-and-answer session with attendees. The Summit is free and open to all Cougs and friends. We hope you will join us!\n\nRegistration\n\nJoin us for an immersive experience, accessible both online via Zoom and in-person at multiple WSU campus locations. Registration is now open! Upon registration, a confirmation email will be sent to you with the Zoom event link if you&#039;ve opted for the online experience.\n\nIn-Person Events\n\nWSU Everett &amp; Pullman Watch Party &amp; Networking\n\nWill you be near WSU Everett or Pullman campuses? The WSUAA will be hosting a special event on April 5. Join fellow alums, students, faculty, staff and friends. Following the broadcast, you will have the opportunity to network, socialize, and talk about what you learned from summit.  Light refreshments will be served.  Please RSVP by Thursday, April 4th at 12:00 p.m. Pacific so we can prepared with adequate chairs and refreshments.\n\nWSU Everett Watch Party \n\nWSU Pullman Watch Party Partnered with the Women*s Center
BEGIN:VALARM
ACTION:DISPLAY
DESCRIPTION:REMINDER
TRIGGER;RELATED=START:-PT00H15M00S
END:VALARM
END:VEVENT
END:VCALENDAR
