BEGIN:VCALENDAR
VERSION:2.0
PRODID:-//Events//NONSGML v1.0//EN
METHOD:PUBLISH
BEGIN:VEVENT
DTSTART;TZID="Pacific Time (US & Canada)":20240726T183000
DTEND;TZID="Pacific Time (US & Canada)":20240726T190000
SUMMARY:Fridays at the Clock
LOCATION:Bryan Hall
DESCRIPTION:The WSU School of Music is thrilled to announce the fourth season of its summer music series – Fridays at the Clock! Located between Bryan Hall and Holland Library, the concerts will take place on Fridays at 6:30pm on the following dates: June 28, July 26, and August 23. Bring your blankets, picnics, and lawn chairs and enjoy family friendly concerts and our pleasant Palouse weather! Concerts will include performances by School of Music faculty, Cougar Summer Music Camp students, and more!\n\n&nbsp;\n\nFridays at the Clock! \n\nWhat: Outdoor Summer Music Series\n\nWhen: Fridays – June 28, July 26, August 23\n\nWhere: below Bryan Hall Clock (between Bryan Hall and Holland Library)\n\nWho: Faculty &amp; Friends\n\nAdmission: Free\n\n&nbsp;\n\nContact/Info\n\nSchool of Music Office music@wsu.edu\n\nSophia Tegart sophiat@wsu.edu
BEGIN:VALARM
ACTION:DISPLAY
DESCRIPTION:REMINDER
TRIGGER;RELATED=START:-PT00H15M00S
END:VALARM
END:VEVENT
END:VCALENDAR
