BEGIN:VCALENDAR
VERSION:2.0
PRODID:-//Events//NONSGML v1.0//EN
METHOD:PUBLISH
BEGIN:VEVENT
DTSTART;TZID="Pacific Time (US & Canada)":20230118T160000
DTEND;TZID="Pacific Time (US & Canada)":20230118T180000
SUMMARY:Get Involved Fair
LOCATION:Compton Union Building
DESCRIPTION:See You at the Fair!\n\nThe Get Involved Fair is one of WSU’s biggest opportunities to meet and connect with student and community organizations on campus. Free pizza will be provided! ?\n\nJoin us Wednesday, January 18 from 4:00 p.m.-6:00 p.m. in the CUB Senior Ballroom (2nd Floor).\n\nIs your organization interested in tabling during the Fair?  Please register below or email our team at getinvolved@wsu.edu with any questions.\n\nRegister Your Organization for the Fair
BEGIN:VALARM
ACTION:DISPLAY
DESCRIPTION:REMINDER
TRIGGER;RELATED=START:-PT00H15M00S
END:VALARM
END:VEVENT
END:VCALENDAR
