BEGIN:VCALENDAR
VERSION:2.0
PRODID:-//Events//NONSGML v1.0//EN
METHOD:PUBLISH
BEGIN:VEVENT
DTSTART;TZID="Pacific Time (US & Canada)":20230325T130000
DTEND;TZID="Pacific Time (US & Canada)":20230325T160000
SUMMARY:Greater Philadelphia Cougs Spring Social &amp; Cheese Tasting
LOCATION:Off Campus
DESCRIPTION:Calling all Cougs in Philadelphia, New Jersey, and Delaware! Join the WSUAA Philadelphia Club on Saturday, March 25, at 1:00 p.m. Eastern for a fun afternoon of Cougs, conversations, and Cougar Cheese at Conshohocken Brewing Company KoP. This gathering is an excellent opportunity to connect with fellow WSU alumni, families, friends, and fans while sampling a variety of Cougar Cheese from the WSU Creamery.\n\nAfter you’ve had a chance to taste-test the different Cougar Cheese varieties, hop on over to our Cougar Cheese Pre-Sale online form where you can order your own cans! Then, on Saturday, April 15, between 1:00–4:00 p.m., pick up your cheese during our Greater Philadelphia Cougs Meet &amp; Greet at Conshohocken Brewing Company KoP. The last day to order cheese is Monday, April 3, at 10:00 a.m. Eastern.\n\nRegister for the Spring Social &amp; Cheese Tasting on the WSU Alumni Association website by Friday, March 24, at 10:00 a.m. Eastern. This event is family-friendly. Don’t forget to wear your Coug gear, and we’ll see you there!\n\nCost\n\n$8 per person, includes a selection of different Cougar Cheeses to try. Additional food and beverages are available for individual purchase at the establishment.
BEGIN:VALARM
ACTION:DISPLAY
DESCRIPTION:REMINDER
TRIGGER;RELATED=START:-PT00H15M00S
END:VALARM
END:VEVENT
END:VCALENDAR
