BEGIN:VCALENDAR
VERSION:2.0
PRODID:-//Events//NONSGML v1.0//EN
METHOD:PUBLISH
BEGIN:VEVENT
DTSTART;TZID="Pacific Time (US & Canada)":20231009T193000
DTEND;TZID="Pacific Time (US & Canada)":20231009T210000
SUMMARY:Guest Artist: Dr. Mark Thiele, tuba (Oktubafest Pt 1)
LOCATION:Bryan Hall
DESCRIPTION:Program\n\nOktubafest Part 1 will feature guest artist Dr. Mark Thiele from the University of Idaho. Dr. Thiele will perform exciting new music featuring the unusual combination of tuba, jazz piano, and drums.
BEGIN:VALARM
ACTION:DISPLAY
DESCRIPTION:REMINDER
TRIGGER;RELATED=START:-PT00H15M00S
END:VALARM
END:VEVENT
END:VCALENDAR
