BEGIN:VCALENDAR
VERSION:2.0
PRODID:-//Events//NONSGML v1.0//EN
METHOD:PUBLISH
BEGIN:VEVENT
DTSTART;TZID="Pacific Time (US & Canada)":20230920T131000
DTEND;TZID="Pacific Time (US & Canada)":20230920T134000
SUMMARY:Guest Artist: Takumi Kato, traditional taiko drumming
LOCATION:Kimbrough Music Building
DESCRIPTION:The Washington State University School of Music is proud to present Takumi Kato and his children performing in Kimbrough Concert Hall September 20th, 1:10-2:00PM\n\nFeaturing the world renowned taiko artist Takumi Kato and his three children for a family friendly, this unforgettable percussion event is not to be missed. Mr. Kato has performed for the Emperor and Empress of Japan, Prime Minister of Japan, international world leaders and more. He and his family moved to the US for five years to promote world peace through cultural exchange and appreciation for the Japanese traditional taiko drumming.\n\n \n\nPhotos Sourced from Mr. Kato’s webpage\n\nAdmission: Free. \n\n \n\nDonations accepted. \n\n \n\nAll ages!
BEGIN:VALARM
ACTION:DISPLAY
DESCRIPTION:REMINDER
TRIGGER;RELATED=START:-PT00H15M00S
END:VALARM
END:VEVENT
END:VCALENDAR
