BEGIN:VCALENDAR
VERSION:2.0
PRODID:-//Events//NONSGML v1.0//EN
METHOD:PUBLISH
BEGIN:VEVENT
DTSTART;TZID="Pacific Time (US & Canada)":20171115T200000
DTEND;TZID="Pacific Time (US & Canada)":20171115T220000
SUMMARY:Guest Recital: Ross Holcombe, trombone
LOCATION:
DESCRIPTION:Financial support for this guest recital provided by\n\n
BEGIN:VALARM
ACTION:DISPLAY
DESCRIPTION:REMINDER
TRIGGER;RELATED=START:-PT00H15M00S
END:VALARM
END:VEVENT
END:VCALENDAR
