BEGIN:VCALENDAR
VERSION:2.0
PRODID:-//Events//NONSGML v1.0//EN
METHOD:PUBLISH
BEGIN:VEVENT
DTSTART;TZID="Pacific Time (US & Canada)":20240415T171000
DTEND;TZID="Pacific Time (US & Canada)":20240415T180000
SUMMARY:Guitar Studio Concert
LOCATION:Kimbrough Music Building
DESCRIPTION:Program:\n\nGuitar Studio Concert\n\nApril 15th - 5:10pm\n\nKimbrough Concert Hall\n\nFree Admission\n\nPerformance of all WSU Guitar Ensembles:\n\nClass Guitar I and II\n\nGuitar Performance Workshop\n\nWSU Guitar Ensemble
BEGIN:VALARM
ACTION:DISPLAY
DESCRIPTION:REMINDER
TRIGGER;RELATED=START:-PT00H15M00S
END:VALARM
END:VEVENT
END:VCALENDAR
