BEGIN:VCALENDAR
VERSION:2.0
PRODID:-//Events//NONSGML v1.0//EN
METHOD:PUBLISH
BEGIN:VEVENT
DTSTART;TZID="Pacific Time (US & Canada)":20221111T193000
DTEND;TZID="Pacific Time (US & Canada)":20221111T213000
SUMMARY:Hasan Minhaj in concert for Fall Family Weekend &#8212; rescheduled to April 1, 2023
LOCATION:Beasley Coliseum, 925 NE North Fairway Rd, Pullman, WA 99163
DESCRIPTION:Due to unforeseen circumstances, the new date for the Hasan Minhaj concert scheduled for November 11, is April 1, 2023, and will coincide with the WSU Spring Family Weekend.\n\nTickets for the April 1 show can be purchased through TicketsWest.  Ticketholders for the November 11 show should keep those and they will be honored and their seat guaranteed for the new date.\n\n---------------\n\nBeasley Coliseum will present Hasan Minhaj in concert as the headliner for Fall Family Weekend!\n\nHasan is a two-time Peabody Award-Winning comedian best known for his breakout special HOMECOMING KING (NETFLIX) and his critically acclaimed, political satire show PATRIOT ACT WITH HASAN MINHAJ (NETFLIX) which won a Peabody, an Emmy, and a Television Academy Honor. Previously, Hasan was a senior correspondent at THE DAILY SHOW WITH JOHN STEWART (COMEDY CENTRAL) and headlined the 2017 WHITE HOUSE CORRESPONDENT’S DINNER. He’s the co-founder and chief executive officer for 186K Films that will produce its first feature “For the Culture” with amazon Studios. Minhaj is co-writing the script with Prashanth Venkataramanujam and will star in the film. His new, one-man show “The King’s Jester” will mark the comedian’s return to his storytelling roots following the global success of “Homecoming King.”\n\nTickets are on sale now and can be purchased through TicketsWest. Ticket prices are $74.50 for the public and $69.50 for WSU students, faculty, and staff.
BEGIN:VALARM
ACTION:DISPLAY
DESCRIPTION:REMINDER
TRIGGER;RELATED=START:-PT00H15M00S
END:VALARM
END:VEVENT
END:VCALENDAR
