BEGIN:VCALENDAR
VERSION:2.0
PRODID:-//Events//NONSGML v1.0//EN
METHOD:PUBLISH
BEGIN:VEVENT
DTSTART;TZID="Pacific Time (US & Canada)":20241007T150000
DTEND;TZID="Pacific Time (US & Canada)":20241007T160000
SUMMARY:HDR &#8220;Lunch &amp; Learn&#8221; Info Session
LOCATION:Spark
DESCRIPTION:HDR+WSU Information Session, October 7th, 2024 in Spark 335 from 3pm-4pm (Food Provided!). Come learn about HDR Engineering who is consistently ranked among Engineering News-Record Top 500 Design Firms. HDR has over 13,000 employees in 200+ locations around the globe, and projects in 60 countries. HDR specializes in multi-disciplinary teams including engineering, architecture, environmental and construction services.\n\n
BEGIN:VALARM
ACTION:DISPLAY
DESCRIPTION:REMINDER
TRIGGER;RELATED=START:-PT00H15M00S
END:VALARM
END:VEVENT
END:VCALENDAR
