BEGIN:VCALENDAR
VERSION:2.0
PRODID:-//Events//NONSGML v1.0//EN
METHOD:PUBLISH
BEGIN:VEVENT
DTSTART;TZID="Pacific Time (US & Canada)":20140502T130000
DTEND;TZID="Pacific Time (US & Canada)":20140502T140000
SUMMARY:Healing Garden Blessing Ceremony
LOCATION:
DESCRIPTION:Join Washington State University Native American Health Sciences for the Healing Garden Blessing Ceremony.\n\nMay 2 | 1:00-2:00 p.m.\n\nNursing Building Courtyard\n\nThe WSU Healing Garden is located in the courtyard outside the Nursing Building Ground Floor, WSU Spokane Riverpoint campus. Blessing will be followed by a small reception.\n\nFor information on disability accommodation or questions about the event, please contact: Dr Robbie Paul, paul@wsu.edu (509)324-7440 or Emma Noyes, emma.noyes@wsu.edu (509)324-7215.
BEGIN:VALARM
ACTION:DISPLAY
DESCRIPTION:REMINDER
TRIGGER;RELATED=START:-PT00H15M00S
END:VALARM
END:VEVENT
END:VCALENDAR
