BEGIN:VCALENDAR
VERSION:2.0
PRODID:-//Events//NONSGML v1.0//EN
METHOD:PUBLISH
BEGIN:VEVENT
DTSTART;TZID="Pacific Time (US & Canada)":20241107T090000
DTEND;TZID="Pacific Time (US & Canada)":20241107T150000
SUMMARY:Healthy People + Healthy Pets
LOCATION:Center for Clinical Research and Simulation, 412 E. Spokane Falls Blvd., Spokane, WA 99202
DESCRIPTION:\n\nThe College of Nursing and College of Veterinary Medicine are teaming up once again for the annual Healthy People + Healthy Pets program, which provides free healthcare services to those living in shelters, transitional housing, and currently unhoused community members and their pets.\n\nA special thank you to our sponsors STCU, Spokane Regional Health District, and the Range Community Clinic.\n\n&nbsp;\n\n&nbsp;
BEGIN:VALARM
ACTION:DISPLAY
DESCRIPTION:REMINDER
TRIGGER;RELATED=START:-PT00H15M00S
END:VALARM
END:VEVENT
END:VCALENDAR
