BEGIN:VCALENDAR
VERSION:2.0
PRODID:-//Events//NONSGML v1.0//EN
METHOD:PUBLISH
BEGIN:VEVENT
DTSTART;TZID="Pacific Time (US & Canada)":20260501T121000
DTEND;TZID="Pacific Time (US & Canada)":20260501T130000
SUMMARY:Hemostasis learning module, a look at the module development process and pilot study outcomes
LOCATION:Animal Disease Biotech Facility (ADBF), 1855 E GRIMES WAY, Pullman, WA 99164
DESCRIPTION:College of Veterinary Medicine Teaching Academy\n\nSemester Seminar\n\n\n\nPRESENTER: Mara Varvil, Assistant Professor\n\nIn this session we will look at the development process of creating a learning module, preview an activity from an in-development hemostasis learning module, and discuss the outcomes of a pilot study designed to evaluate the hemostasis learning module and how that is shaping the continued development of this module.\n\n\n\n\n\nThe WSU College of Veterinary Medicine Teaching Academy is an inclusive community of educators enhancing their teaching, career development and scholarship. The academy fosters innovative curriculum, teaching, and learning.\n\nOur weekly events are open to all college and WSU faculty, staff, graduate, and professional students.\n\nWe also offer educational training and academic career preparation opportunities to graduate students, veterinary residents, and new faculty members across the entire college through workshops, seminars, discussions, and summer programs.
BEGIN:VALARM
ACTION:DISPLAY
DESCRIPTION:REMINDER
TRIGGER;RELATED=START:-PT00H15M00S
END:VALARM
END:VEVENT
END:VCALENDAR
