BEGIN:VCALENDAR
VERSION:2.0
PRODID:-//Events//NONSGML v1.0//EN
METHOD:PUBLISH
BEGIN:VEVENT
DTSTART;TZID="Pacific Time (US & Canada)":20240202T170000
DTEND;TZID="Pacific Time (US & Canada)":20240202T190000
SUMMARY:Heritage of Words: A Half-Century Celebration
LOCATION:Elson S. Floyd Cultural Center, 405 SE Spokane Street, Pullman, WA
DESCRIPTION:\n\nCelebrate the 50th anniversary of the WSU Women*s Center!\n\nBring a book and carve out a community with us where you can enjoy personal reading time in a communal setting. This is a reading party, not a book club.\n\nPresented by the Women*s Center and Association for Faculty Women\n\n&nbsp;
BEGIN:VALARM
ACTION:DISPLAY
DESCRIPTION:REMINDER
TRIGGER;RELATED=START:-PT00H15M00S
END:VALARM
END:VEVENT
END:VCALENDAR
