BEGIN:VCALENDAR
VERSION:2.0
PRODID:-//Events//NONSGML v1.0//EN
METHOD:PUBLISH
BEGIN:VEVENT
DTSTART;TZID="Pacific Time (US & Canada)":20190529T172000
DTEND;TZID="Pacific Time (US & Canada)":20190529T182000
SUMMARY:Hip-Hop Majorette with Krimson Kouture featuring Vashti B.
LOCATION:Online
DESCRIPTION:Join this live-stream and learn fun moves with fellow WSU students.  Hip-Hop Majorette is a high-energy, lyrical, synchronized dance style that incorporates ballet, jazz, modern dance, hip-hop, and gymnastics.\n\nLed by WSU’s very own Krimson Kouture dance team who specializes in this style and advocates for self-expression and diversity, this beginner class will teach basic majorette routines and choreography, all with hip-hop flair, confidence, and sass.\n\nNo prior experience needed; all are welcome to let loose and have fun!
BEGIN:VALARM
ACTION:DISPLAY
DESCRIPTION:REMINDER
TRIGGER;RELATED=START:-PT00H15M00S
END:VALARM
END:VEVENT
END:VCALENDAR
