BEGIN:VCALENDAR
VERSION:2.0
PRODID:-//Events//NONSGML v1.0//EN
METHOD:PUBLISH
BEGIN:VEVENT
DTSTART;TZID="Pacific Time (US & Canada)":20190815T170000
DTEND;TZID="Pacific Time (US & Canada)":20190815T190000
SUMMARY:Honors College Ice Cream Social and MESI Demo
LOCATION:Honors Hall
DESCRIPTION:Ice Cream Social for Honors students
BEGIN:VALARM
ACTION:DISPLAY
DESCRIPTION:REMINDER
TRIGGER;RELATED=START:-PT00H15M00S
END:VALARM
END:VEVENT
END:VCALENDAR
