BEGIN:VCALENDAR
VERSION:2.0
PRODID:-//Events//NONSGML v1.0//EN
METHOD:PUBLISH
BEGIN:VEVENT
DTSTART;TZID="Pacific Time (US & Canada)":20240917T121000
DTEND;TZID="Pacific Time (US & Canada)":20240917T130000
SUMMARY:How to Design Surveys for Education Research
LOCATION:Animal Disease Biotech Facility (ADBF), 1855 E GRIMES WAY, Pullman, WA 99164
DESCRIPTION:How to Design Surveys for Education Research\n\nA SEMESTER SEMINAR\n\nPRESENTER: Dr. Susan Matthew\n\nLike exam questions, education research survey questions need to be thoughtfully selected &amp; written to enable accurate measurement. This workshop will address key principles for designing robust education research surveys, as well as tips &amp; tricks for writing survey questions to reduce measurement error.\n\n\n\nCollege of Veterinary Medicine Teaching Academy\n\nThe WSU College of Veterinary Medicine Teaching Academy is a scholarly community of educators engaging in teaching and career development. The academy fosters innovative curriculum, teaching, and learning.\n\nOur weekly events are open to all college and WSU faculty, staff, graduate, and professional students.\n\nWe also offer educational training and academic career preparation opportunities to graduate students, veterinary residents, and new faculty members across the entire college through workshops, seminars, discussions, and summer programs.
BEGIN:VALARM
ACTION:DISPLAY
DESCRIPTION:REMINDER
TRIGGER;RELATED=START:-PT00H15M00S
END:VALARM
END:VEVENT
END:VCALENDAR
