BEGIN:VCALENDAR
VERSION:2.0
PRODID:-//Events//NONSGML v1.0//EN
METHOD:PUBLISH
BEGIN:VEVENT
DTSTART;TZID="Pacific Time (US & Canada)":20230914T150000
DTEND;TZID="Pacific Time (US & Canada)":20230914T163000
SUMMARY:Ig Nobel Awards Watch Party
LOCATION:
DESCRIPTION:Owen Science Library is holding a watch party to livestream the 33rd annual Ig Nobel Prize awards!\n\nStarted in 1991, the Ig Nobel prizes recognize research achievements that make people laugh, then make them think. They are named after Ignatius &quot;Ig&quot; Nobel, a distant (fictitious) cousin of Nobel Prize founder Alfred. Last year&#039;s winners investigated cutting-edge scientific topics like mating success of constipated scorpions, the best way to turn a knob, ritual enema scenes on ancient Maya pottery, ice cream to reduce chemotherapy complications, and development of a moose crash-test dummy.\n\nJoin us as this year&#039;s awards are announced and presented by actual Nobel laureates.\n\nLight refreshments will be provided.
BEGIN:VALARM
ACTION:DISPLAY
DESCRIPTION:REMINDER
TRIGGER;RELATED=START:-PT00H15M00S
END:VALARM
END:VEVENT
END:VCALENDAR
