BEGIN:VCALENDAR
VERSION:2.0
PRODID:-//Events//NONSGML v1.0//EN
METHOD:PUBLISH
BEGIN:VEVENT
DTSTART;TZID="Pacific Time (US & Canada)":20200924T100000
DTEND;TZID="Pacific Time (US & Canada)":20200924T120000
SUMMARY:Inclusive Pedagogy: A community of practice approach
LOCATION:Online
DESCRIPTION:Join the WSU Community, Equity and Inclusive Excellence office as they discuss what inclusive pedagogy is, what community of practice is, and how to unite the two.\n\n~ SPEAKERS ~\n\nDR. JAIME NOLAN\n\nAssociate Vice President, Community, Equity and Inclusive Excellence\n\nWashington State University\n\nDR. JIM BURNS\n\nAssistant Professor, Curriculum and Instruction\n\nFlorida International University
BEGIN:VALARM
ACTION:DISPLAY
DESCRIPTION:REMINDER
TRIGGER;RELATED=START:-PT00H15M00S
END:VALARM
END:VEVENT
END:VCALENDAR
