BEGIN:VCALENDAR
VERSION:2.0
PRODID:-//Events//NONSGML v1.0//EN
METHOD:PUBLISH
BEGIN:VEVENT
DTSTART;TZID="Pacific Time (US & Canada)":20131115T143000
DTEND;TZID="Pacific Time (US & Canada)":20131115T160000
SUMMARY:Innovation Workshop for Entrepreneurs
LOCATION:
DESCRIPTION:The College of Business will offer a workshop to develop entrepreneurial skills 2:30-4 p.m. Friday, Nov. 15, in Todd 268 at Washington State University. The workshop is free and open to the public.\n\nSponsored by the Department of Management, Information Systems and Entrepreneurship, the annual workshop series focuses on cultivating innovative ideas. Participants will test and develop ideas, identify ways to maximize learning while minimizing investment, and collaborate with peers from diverse backgrounds.\n\nFor more information, visit www.cb.wsu.edu/ideationworkshop2013 or email Joseph Taylor joseph.d.taylor@email.wsu.edu.
BEGIN:VALARM
ACTION:DISPLAY
DESCRIPTION:REMINDER
TRIGGER;RELATED=START:-PT00H15M00S
END:VALARM
END:VEVENT
END:VCALENDAR
