BEGIN:VCALENDAR
VERSION:2.0
PRODID:-//Events//NONSGML v1.0//EN
METHOD:PUBLISH
BEGIN:VEVENT
DTSTART;TZID="Pacific Time (US & Canada)":20190925T193000
DTEND;TZID="Pacific Time (US & Canada)":20190925T213000
SUMMARY:Jazz Forum
LOCATION:
DESCRIPTION:\n\n\n\n\n\n\n\nThe WSU Jazz society is pleased to present its first Jazz Forum of the 2019-2020 academic year. The Forum will relate to all music students and community members interested in the practice procedures and pedagogy involved with learning jazz standards. There will be performances by new WSU faculty members and also by student jazz combos. Please come out and support live music! We look forward to seeing you there.\n\n\n\n\n\n\n\n
BEGIN:VALARM
ACTION:DISPLAY
DESCRIPTION:REMINDER
TRIGGER;RELATED=START:-PT00H15M00S
END:VALARM
END:VEVENT
END:VCALENDAR
