BEGIN:VCALENDAR
VERSION:2.0
PRODID:-//Events//NONSGML v1.0//EN
METHOD:PUBLISH
BEGIN:VEVENT
DTSTART;TZID="Pacific Time (US & Canada)":20190927T150000
DTEND;TZID="Pacific Time (US & Canada)":20190927T170000
SUMMARY:JoAnn McCabe retirement party
LOCATION:Lewis Alumni Center, Pullman, WA 99164
DESCRIPTION:Please join us as we celebrate the retirement of JoAnn McCabe, after nearly 25 years of service at Washington State University.
BEGIN:VALARM
ACTION:DISPLAY
DESCRIPTION:REMINDER
TRIGGER;RELATED=START:-PT00H15M00S
END:VALARM
END:VEVENT
END:VCALENDAR
