BEGIN:VCALENDAR
VERSION:2.0
PRODID:-//Events//NONSGML v1.0//EN
METHOD:PUBLISH
BEGIN:VEVENT
DTSTART;TZID="Pacific Time (US & Canada)":20190404T183000
DTEND;TZID="Pacific Time (US & Canada)":20190404T190000
SUMMARY:Kettlebells 201
LOCATION:Online
DESCRIPTION:The kettlebell is a highly versatile tool that is often neglected or misused in gyms today.  Wellbeing Online would like to help you learn how to implement this tool into you regular workout routine.\n\nJoin Ramon Sodano, Master Trainer and Coordinator of Fitness Services at Washington State University, on Thursday, March 28, 6:30-7:30 p.m., for this progression of the Kettlebells 101 webinar.  The focus of this webinar will be on the kettlebell clean, snatch, and squat variations.
BEGIN:VALARM
ACTION:DISPLAY
DESCRIPTION:REMINDER
TRIGGER;RELATED=START:-PT00H15M00S
END:VALARM
END:VEVENT
END:VCALENDAR
