BEGIN:VCALENDAR
VERSION:2.0
PRODID:-//Events//NONSGML v1.0//EN
METHOD:PUBLISH
BEGIN:VEVENT
DTSTART;TZID="Pacific Time (US & Canada)":20190411T170000
DTEND;TZID="Pacific Time (US & Canada)":20190411T200000
SUMMARY:Lūʻau at Southside Café
LOCATION:
DESCRIPTION:Dining Services, in partnership with the WSU Hawaiʻi Club, is hosting a Lūʻau at Southside Café! You&#039;re invited to this special dinner event. Click here to learn more.\n\n
BEGIN:VALARM
ACTION:DISPLAY
DESCRIPTION:REMINDER
TRIGGER;RELATED=START:-PT00H15M00S
END:VALARM
END:VEVENT
END:VCALENDAR
