BEGIN:VCALENDAR
VERSION:2.0
PRODID:-//Events//NONSGML v1.0//EN
METHOD:PUBLISH
BEGIN:VEVENT
DTSTART;TZID="Pacific Time (US & Canada)":20131009T120000
DTEND;TZID="Pacific Time (US & Canada)":20131009T130000
SUMMARY:Lunch &#038; Learn: APA Writing Workshop
LOCATION:
DESCRIPTION:Learn about APA style for writing research papers with Bobby Jones, our WSU Spokane Writing Specialist. This presentation will explore the key components of APA including title page, abstract, introduction, citations, references, and more. Bobby will also provide resources to help you as you begin to write your next paper. \n\nThe Lunch &amp; Learn series is sponsored by Spokane Student Affairs with a grant from STCU. Lunches occur every week with new topics and speakers each time. WSU Spokane students who RSVP to spok.sa@wsu.edu by the day before the event will receive a free lunch. All students, faculty and staff are welcome to attend.
BEGIN:VALARM
ACTION:DISPLAY
DESCRIPTION:REMINDER
TRIGGER;RELATED=START:-PT00H15M00S
END:VALARM
END:VEVENT
END:VCALENDAR
